BEGIN:VCALENDAR
VERSION:2.0
PRODID:-//iHOPE, Inc. - ECPv6.15.20//NONSGML v1.0//EN
CALSCALE:GREGORIAN
METHOD:PUBLISH
X-WR-CALNAME:iHOPE, Inc.
X-ORIGINAL-URL:https://www.ihopeinc.org
X-WR-CALDESC:Events for iHOPE, Inc.
REFRESH-INTERVAL;VALUE=DURATION:PT1H
X-Robots-Tag:noindex
X-PUBLISHED-TTL:PT1H
BEGIN:VTIMEZONE
TZID:America/New_York
BEGIN:DAYLIGHT
TZOFFSETFROM:-0500
TZOFFSETTO:-0400
TZNAME:EDT
DTSTART:20220313T070000
END:DAYLIGHT
BEGIN:STANDARD
TZOFFSETFROM:-0400
TZOFFSETTO:-0500
TZNAME:EST
DTSTART:20221106T060000
END:STANDARD
BEGIN:DAYLIGHT
TZOFFSETFROM:-0500
TZOFFSETTO:-0400
TZNAME:EDT
DTSTART:20230312T070000
END:DAYLIGHT
BEGIN:STANDARD
TZOFFSETFROM:-0400
TZOFFSETTO:-0500
TZNAME:EST
DTSTART:20231105T060000
END:STANDARD
BEGIN:DAYLIGHT
TZOFFSETFROM:-0500
TZOFFSETTO:-0400
TZNAME:EDT
DTSTART:20240310T070000
END:DAYLIGHT
BEGIN:STANDARD
TZOFFSETFROM:-0400
TZOFFSETTO:-0500
TZNAME:EST
DTSTART:20241103T060000
END:STANDARD
END:VTIMEZONE
BEGIN:VEVENT
DTSTART;TZID=America/New_York:20230925T183000
DTEND;TZID=America/New_York:20230925T203000
DTSTAMP:20260421T095045
CREATED:20230822T160235Z
LAST-MODIFIED:20230822T160235Z
UID:10001139-1695666600-1695673800@www.ihopeinc.org
SUMMARY:Celebrate Recovery
DESCRIPTION:
URL:https://www.ihopeinc.org/event/celebrate-recovery/2023-09-25/
LOCATION:5555 Bethdesa Avenue\, Macon\, GA\, 31206\, 5555 Bethesda Ave\, Macon\, 31206\, Georgia
ORGANIZER;CN="iHope":MAILTO:info@ihopeinc.com
END:VEVENT
BEGIN:VEVENT
DTSTART;TZID=America/New_York:20230926T120000
DTEND;TZID=America/New_York:20230926T130000
DTSTAMP:20260421T095045
CREATED:20230419T192757Z
LAST-MODIFIED:20230419T193525Z
UID:10000162-1695729600-1695733200@www.ihopeinc.org
SUMMARY:All Recovery Meetings
DESCRIPTION:Zoom Meeting ID: 872 0834 6352 \nZoom Meeting Password: Recovery
URL:https://www.ihopeinc.org/event/all-recovery-meetings/2023-09-26/
LOCATION:iHOPE INC\, 603 C Russell Parkway\, Warner Robins\, GA\, 31088\, United States
END:VEVENT
BEGIN:VEVENT
DTSTART;TZID=America/New_York:20230927T120000
DTEND;TZID=America/New_York:20230927T120000
DTSTAMP:20260421T095045
CREATED:20230822T153842Z
LAST-MODIFIED:20230822T155022Z
UID:10000773-1695816000-1695816000@www.ihopeinc.org
SUMMARY:All Recovery Parents Meetings
DESCRIPTION:
URL:https://www.ihopeinc.org/event/all-recovery-parents-meetings/2023-09-27/
LOCATION:iHOPE INC\, 603 C Russell Parkway\, Warner Robins\, GA\, 31088\, United States
ORGANIZER;CN="iHope":MAILTO:info@ihopeinc.com
END:VEVENT
BEGIN:VEVENT
DTSTART;TZID=America/New_York:20230928T120000
DTEND;TZID=America/New_York:20230928T130000
DTSTAMP:20260421T095045
CREATED:20230419T192757Z
LAST-MODIFIED:20230419T193525Z
UID:10000164-1695902400-1695906000@www.ihopeinc.org
SUMMARY:All Recovery Meetings
DESCRIPTION:Zoom Meeting ID: 872 0834 6352 \nZoom Meeting Password: Recovery
URL:https://www.ihopeinc.org/event/all-recovery-meetings/2023-09-28/
LOCATION:iHOPE INC\, 603 C Russell Parkway\, Warner Robins\, GA\, 31088\, United States
END:VEVENT
BEGIN:VEVENT
DTSTART;TZID=America/New_York:20230929T120000
DTEND;TZID=America/New_York:20230929T130000
DTSTAMP:20260421T095045
CREATED:20230419T192757Z
LAST-MODIFIED:20230419T193525Z
UID:10000165-1695988800-1695992400@www.ihopeinc.org
SUMMARY:All Recovery Meetings
DESCRIPTION:Zoom Meeting ID: 872 0834 6352 \nZoom Meeting Password: Recovery
URL:https://www.ihopeinc.org/event/all-recovery-meetings/2023-09-29/
LOCATION:iHOPE INC\, 603 C Russell Parkway\, Warner Robins\, GA\, 31088\, United States
END:VEVENT
BEGIN:VEVENT
DTSTART;TZID=America/New_York:20230929T190000
DTEND;TZID=America/New_York:20230929T230000
DTSTAMP:20260421T095045
CREATED:20230822T205040Z
LAST-MODIFIED:20230822T205040Z
UID:10001396-1696014000-1696028400@www.ihopeinc.org
SUMMARY:4TH Annual Gala- "Decade Dance"
DESCRIPTION:
URL:https://www.ihopeinc.org/event/4th-annual-gala-decade-dance/
LOCATION:115 Margie Drive\, Warner Robin\, 115 Margie Drive\, Warner Robins\, Suite E\, 31088
ORGANIZER;CN="iHope":MAILTO:info@ihopeinc.com
END:VEVENT
BEGIN:VEVENT
DTSTART;TZID=America/New_York:20231002T183000
DTEND;TZID=America/New_York:20231002T203000
DTSTAMP:20260421T095045
CREATED:20230822T160235Z
LAST-MODIFIED:20230822T160235Z
UID:10001140-1696271400-1696278600@www.ihopeinc.org
SUMMARY:Celebrate Recovery
DESCRIPTION:
URL:https://www.ihopeinc.org/event/celebrate-recovery/2023-10-02/
LOCATION:5555 Bethdesa Avenue\, Macon\, GA\, 31206\, 5555 Bethesda Ave\, Macon\, 31206\, Georgia
ORGANIZER;CN="iHope":MAILTO:info@ihopeinc.com
END:VEVENT
BEGIN:VEVENT
DTSTART;TZID=America/New_York:20231003T120000
DTEND;TZID=America/New_York:20231003T130000
DTSTAMP:20260421T095045
CREATED:20230419T192757Z
LAST-MODIFIED:20230419T193525Z
UID:10000166-1696334400-1696338000@www.ihopeinc.org
SUMMARY:All Recovery Meetings
DESCRIPTION:Zoom Meeting ID: 872 0834 6352 \nZoom Meeting Password: Recovery
URL:https://www.ihopeinc.org/event/all-recovery-meetings/2023-10-03/
LOCATION:iHOPE INC\, 603 C Russell Parkway\, Warner Robins\, GA\, 31088\, United States
END:VEVENT
BEGIN:VEVENT
DTSTART;TZID=America/New_York:20231004T120000
DTEND;TZID=America/New_York:20231004T120000
DTSTAMP:20260421T095045
CREATED:20230822T153842Z
LAST-MODIFIED:20230822T155022Z
UID:10000774-1696420800-1696420800@www.ihopeinc.org
SUMMARY:All Recovery Parents Meetings
DESCRIPTION:
URL:https://www.ihopeinc.org/event/all-recovery-parents-meetings/2023-10-04/
LOCATION:iHOPE INC\, 603 C Russell Parkway\, Warner Robins\, GA\, 31088\, United States
ORGANIZER;CN="iHope":MAILTO:info@ihopeinc.com
END:VEVENT
BEGIN:VEVENT
DTSTART;TZID=America/New_York:20231005T120000
DTEND;TZID=America/New_York:20231005T130000
DTSTAMP:20260421T095045
CREATED:20230419T192757Z
LAST-MODIFIED:20230419T193525Z
UID:10000168-1696507200-1696510800@www.ihopeinc.org
SUMMARY:All Recovery Meetings
DESCRIPTION:Zoom Meeting ID: 872 0834 6352 \nZoom Meeting Password: Recovery
URL:https://www.ihopeinc.org/event/all-recovery-meetings/2023-10-05/
LOCATION:iHOPE INC\, 603 C Russell Parkway\, Warner Robins\, GA\, 31088\, United States
END:VEVENT
BEGIN:VEVENT
DTSTART;TZID=America/New_York:20231006T120000
DTEND;TZID=America/New_York:20231006T130000
DTSTAMP:20260421T095045
CREATED:20230419T192757Z
LAST-MODIFIED:20230419T193525Z
UID:10000169-1696593600-1696597200@www.ihopeinc.org
SUMMARY:All Recovery Meetings
DESCRIPTION:Zoom Meeting ID: 872 0834 6352 \nZoom Meeting Password: Recovery
URL:https://www.ihopeinc.org/event/all-recovery-meetings/2023-10-06/
LOCATION:iHOPE INC\, 603 C Russell Parkway\, Warner Robins\, GA\, 31088\, United States
END:VEVENT
BEGIN:VEVENT
DTSTART;TZID=America/New_York:20231009T183000
DTEND;TZID=America/New_York:20231009T203000
DTSTAMP:20260421T095045
CREATED:20230822T160235Z
LAST-MODIFIED:20230822T160235Z
UID:10001141-1696876200-1696883400@www.ihopeinc.org
SUMMARY:Celebrate Recovery
DESCRIPTION:
URL:https://www.ihopeinc.org/event/celebrate-recovery/2023-10-09/
LOCATION:5555 Bethdesa Avenue\, Macon\, GA\, 31206\, 5555 Bethesda Ave\, Macon\, 31206\, Georgia
ORGANIZER;CN="iHope":MAILTO:info@ihopeinc.com
END:VEVENT
BEGIN:VEVENT
DTSTART;TZID=America/New_York:20231010T120000
DTEND;TZID=America/New_York:20231010T130000
DTSTAMP:20260421T095045
CREATED:20230419T192757Z
LAST-MODIFIED:20230419T193525Z
UID:10000170-1696939200-1696942800@www.ihopeinc.org
SUMMARY:All Recovery Meetings
DESCRIPTION:Zoom Meeting ID: 872 0834 6352 \nZoom Meeting Password: Recovery
URL:https://www.ihopeinc.org/event/all-recovery-meetings/2023-10-10/
LOCATION:iHOPE INC\, 603 C Russell Parkway\, Warner Robins\, GA\, 31088\, United States
END:VEVENT
BEGIN:VEVENT
DTSTART;TZID=America/New_York:20231011T120000
DTEND;TZID=America/New_York:20231011T120000
DTSTAMP:20260421T095045
CREATED:20230822T153842Z
LAST-MODIFIED:20230822T155022Z
UID:10000775-1697025600-1697025600@www.ihopeinc.org
SUMMARY:All Recovery Parents Meetings
DESCRIPTION:
URL:https://www.ihopeinc.org/event/all-recovery-parents-meetings/2023-10-11/
LOCATION:iHOPE INC\, 603 C Russell Parkway\, Warner Robins\, GA\, 31088\, United States
ORGANIZER;CN="iHope":MAILTO:info@ihopeinc.com
END:VEVENT
BEGIN:VEVENT
DTSTART;TZID=America/New_York:20231012T120000
DTEND;TZID=America/New_York:20231012T130000
DTSTAMP:20260421T095045
CREATED:20230419T192757Z
LAST-MODIFIED:20230419T193525Z
UID:10000172-1697112000-1697115600@www.ihopeinc.org
SUMMARY:All Recovery Meetings
DESCRIPTION:Zoom Meeting ID: 872 0834 6352 \nZoom Meeting Password: Recovery
URL:https://www.ihopeinc.org/event/all-recovery-meetings/2023-10-12/
LOCATION:iHOPE INC\, 603 C Russell Parkway\, Warner Robins\, GA\, 31088\, United States
END:VEVENT
BEGIN:VEVENT
DTSTART;TZID=America/New_York:20231013T120000
DTEND;TZID=America/New_York:20231013T130000
DTSTAMP:20260421T095045
CREATED:20230419T192757Z
LAST-MODIFIED:20230419T193525Z
UID:10000173-1697198400-1697202000@www.ihopeinc.org
SUMMARY:All Recovery Meetings
DESCRIPTION:Zoom Meeting ID: 872 0834 6352 \nZoom Meeting Password: Recovery
URL:https://www.ihopeinc.org/event/all-recovery-meetings/2023-10-13/
LOCATION:iHOPE INC\, 603 C Russell Parkway\, Warner Robins\, GA\, 31088\, United States
END:VEVENT
BEGIN:VEVENT
DTSTART;TZID=America/New_York:20231016T183000
DTEND;TZID=America/New_York:20231016T203000
DTSTAMP:20260421T095045
CREATED:20230822T160235Z
LAST-MODIFIED:20230822T160235Z
UID:10001142-1697481000-1697488200@www.ihopeinc.org
SUMMARY:Celebrate Recovery
DESCRIPTION:
URL:https://www.ihopeinc.org/event/celebrate-recovery/2023-10-16/
LOCATION:5555 Bethdesa Avenue\, Macon\, GA\, 31206\, 5555 Bethesda Ave\, Macon\, 31206\, Georgia
ORGANIZER;CN="iHope":MAILTO:info@ihopeinc.com
END:VEVENT
BEGIN:VEVENT
DTSTART;TZID=America/New_York:20231017T120000
DTEND;TZID=America/New_York:20231017T130000
DTSTAMP:20260421T095045
CREATED:20230419T192757Z
LAST-MODIFIED:20230419T193525Z
UID:10000174-1697544000-1697547600@www.ihopeinc.org
SUMMARY:All Recovery Meetings
DESCRIPTION:Zoom Meeting ID: 872 0834 6352 \nZoom Meeting Password: Recovery
URL:https://www.ihopeinc.org/event/all-recovery-meetings/2023-10-17/
LOCATION:iHOPE INC\, 603 C Russell Parkway\, Warner Robins\, GA\, 31088\, United States
END:VEVENT
BEGIN:VEVENT
DTSTART;TZID=America/New_York:20231018T120000
DTEND;TZID=America/New_York:20231018T120000
DTSTAMP:20260421T095045
CREATED:20230822T153842Z
LAST-MODIFIED:20230822T155022Z
UID:10000776-1697630400-1697630400@www.ihopeinc.org
SUMMARY:All Recovery Parents Meetings
DESCRIPTION:
URL:https://www.ihopeinc.org/event/all-recovery-parents-meetings/2023-10-18/
LOCATION:iHOPE INC\, 603 C Russell Parkway\, Warner Robins\, GA\, 31088\, United States
ORGANIZER;CN="iHope":MAILTO:info@ihopeinc.com
END:VEVENT
BEGIN:VEVENT
DTSTART;TZID=America/New_York:20231019T120000
DTEND;TZID=America/New_York:20231019T130000
DTSTAMP:20260421T095045
CREATED:20230419T192757Z
LAST-MODIFIED:20230419T193525Z
UID:10000176-1697716800-1697720400@www.ihopeinc.org
SUMMARY:All Recovery Meetings
DESCRIPTION:Zoom Meeting ID: 872 0834 6352 \nZoom Meeting Password: Recovery
URL:https://www.ihopeinc.org/event/all-recovery-meetings/2023-10-19/
LOCATION:iHOPE INC\, 603 C Russell Parkway\, Warner Robins\, GA\, 31088\, United States
END:VEVENT
BEGIN:VEVENT
DTSTART;TZID=America/New_York:20231020T120000
DTEND;TZID=America/New_York:20231020T130000
DTSTAMP:20260421T095045
CREATED:20230419T192757Z
LAST-MODIFIED:20230419T193525Z
UID:10000177-1697803200-1697806800@www.ihopeinc.org
SUMMARY:All Recovery Meetings
DESCRIPTION:Zoom Meeting ID: 872 0834 6352 \nZoom Meeting Password: Recovery
URL:https://www.ihopeinc.org/event/all-recovery-meetings/2023-10-20/
LOCATION:iHOPE INC\, 603 C Russell Parkway\, Warner Robins\, GA\, 31088\, United States
END:VEVENT
BEGIN:VEVENT
DTSTART;TZID=America/New_York:20231023T183000
DTEND;TZID=America/New_York:20231023T203000
DTSTAMP:20260421T095045
CREATED:20230822T160235Z
LAST-MODIFIED:20230822T160235Z
UID:10001143-1698085800-1698093000@www.ihopeinc.org
SUMMARY:Celebrate Recovery
DESCRIPTION:
URL:https://www.ihopeinc.org/event/celebrate-recovery/2023-10-23/
LOCATION:5555 Bethdesa Avenue\, Macon\, GA\, 31206\, 5555 Bethesda Ave\, Macon\, 31206\, Georgia
ORGANIZER;CN="iHope":MAILTO:info@ihopeinc.com
END:VEVENT
BEGIN:VEVENT
DTSTART;TZID=America/New_York:20231024T120000
DTEND;TZID=America/New_York:20231024T130000
DTSTAMP:20260421T095045
CREATED:20230419T192757Z
LAST-MODIFIED:20230419T193525Z
UID:10000178-1698148800-1698152400@www.ihopeinc.org
SUMMARY:All Recovery Meetings
DESCRIPTION:Zoom Meeting ID: 872 0834 6352 \nZoom Meeting Password: Recovery
URL:https://www.ihopeinc.org/event/all-recovery-meetings/2023-10-24/
LOCATION:iHOPE INC\, 603 C Russell Parkway\, Warner Robins\, GA\, 31088\, United States
END:VEVENT
BEGIN:VEVENT
DTSTART;TZID=America/New_York:20231025T120000
DTEND;TZID=America/New_York:20231025T120000
DTSTAMP:20260421T095045
CREATED:20230822T153842Z
LAST-MODIFIED:20230822T155022Z
UID:10000777-1698235200-1698235200@www.ihopeinc.org
SUMMARY:All Recovery Parents Meetings
DESCRIPTION:
URL:https://www.ihopeinc.org/event/all-recovery-parents-meetings/2023-10-25/
LOCATION:iHOPE INC\, 603 C Russell Parkway\, Warner Robins\, GA\, 31088\, United States
ORGANIZER;CN="iHope":MAILTO:info@ihopeinc.com
END:VEVENT
BEGIN:VEVENT
DTSTART;TZID=America/New_York:20231026T120000
DTEND;TZID=America/New_York:20231026T130000
DTSTAMP:20260421T095045
CREATED:20230419T192757Z
LAST-MODIFIED:20230419T193525Z
UID:10000180-1698321600-1698325200@www.ihopeinc.org
SUMMARY:All Recovery Meetings
DESCRIPTION:Zoom Meeting ID: 872 0834 6352 \nZoom Meeting Password: Recovery
URL:https://www.ihopeinc.org/event/all-recovery-meetings/2023-10-26/
LOCATION:iHOPE INC\, 603 C Russell Parkway\, Warner Robins\, GA\, 31088\, United States
END:VEVENT
BEGIN:VEVENT
DTSTART;TZID=America/New_York:20231027T120000
DTEND;TZID=America/New_York:20231027T130000
DTSTAMP:20260421T095045
CREATED:20230419T192757Z
LAST-MODIFIED:20230419T193525Z
UID:10000181-1698408000-1698411600@www.ihopeinc.org
SUMMARY:All Recovery Meetings
DESCRIPTION:Zoom Meeting ID: 872 0834 6352 \nZoom Meeting Password: Recovery
URL:https://www.ihopeinc.org/event/all-recovery-meetings/2023-10-27/
LOCATION:iHOPE INC\, 603 C Russell Parkway\, Warner Robins\, GA\, 31088\, United States
END:VEVENT
BEGIN:VEVENT
DTSTART;TZID=America/New_York:20231030T183000
DTEND;TZID=America/New_York:20231030T203000
DTSTAMP:20260421T095045
CREATED:20230822T160235Z
LAST-MODIFIED:20230822T160235Z
UID:10001144-1698690600-1698697800@www.ihopeinc.org
SUMMARY:Celebrate Recovery
DESCRIPTION:
URL:https://www.ihopeinc.org/event/celebrate-recovery/2023-10-30/
LOCATION:5555 Bethdesa Avenue\, Macon\, GA\, 31206\, 5555 Bethesda Ave\, Macon\, 31206\, Georgia
ORGANIZER;CN="iHope":MAILTO:info@ihopeinc.com
END:VEVENT
BEGIN:VEVENT
DTSTART;TZID=America/New_York:20231031T120000
DTEND;TZID=America/New_York:20231031T130000
DTSTAMP:20260421T095045
CREATED:20230419T192757Z
LAST-MODIFIED:20230419T193525Z
UID:10000182-1698753600-1698757200@www.ihopeinc.org
SUMMARY:All Recovery Meetings
DESCRIPTION:Zoom Meeting ID: 872 0834 6352 \nZoom Meeting Password: Recovery
URL:https://www.ihopeinc.org/event/all-recovery-meetings/2023-10-31/
LOCATION:iHOPE INC\, 603 C Russell Parkway\, Warner Robins\, GA\, 31088\, United States
END:VEVENT
BEGIN:VEVENT
DTSTART;TZID=America/New_York:20231101T120000
DTEND;TZID=America/New_York:20231101T120000
DTSTAMP:20260421T095045
CREATED:20230822T153842Z
LAST-MODIFIED:20230822T155022Z
UID:10000778-1698840000-1698840000@www.ihopeinc.org
SUMMARY:All Recovery Parents Meetings
DESCRIPTION:
URL:https://www.ihopeinc.org/event/all-recovery-parents-meetings/2023-11-01/
LOCATION:iHOPE INC\, 603 C Russell Parkway\, Warner Robins\, GA\, 31088\, United States
ORGANIZER;CN="iHope":MAILTO:info@ihopeinc.com
END:VEVENT
BEGIN:VEVENT
DTSTART;TZID=America/New_York:20231102T120000
DTEND;TZID=America/New_York:20231102T130000
DTSTAMP:20260421T095045
CREATED:20230419T192757Z
LAST-MODIFIED:20230419T193525Z
UID:10000184-1698926400-1698930000@www.ihopeinc.org
SUMMARY:All Recovery Meetings
DESCRIPTION:Zoom Meeting ID: 872 0834 6352 \nZoom Meeting Password: Recovery
URL:https://www.ihopeinc.org/event/all-recovery-meetings/2023-11-02/
LOCATION:iHOPE INC\, 603 C Russell Parkway\, Warner Robins\, GA\, 31088\, United States
END:VEVENT
END:VCALENDAR