BEGIN:VCALENDAR
VERSION:2.0
PRODID:-//iHOPE, Inc. - ECPv6.15.20//NONSGML v1.0//EN
CALSCALE:GREGORIAN
METHOD:PUBLISH
X-ORIGINAL-URL:https://www.ihopeinc.org
X-WR-CALDESC:Events for iHOPE, Inc.
REFRESH-INTERVAL;VALUE=DURATION:PT1H
X-Robots-Tag:noindex
X-PUBLISHED-TTL:PT1H
BEGIN:VTIMEZONE
TZID:America/New_York
BEGIN:DAYLIGHT
TZOFFSETFROM:-0500
TZOFFSETTO:-0400
TZNAME:EDT
DTSTART:20220313T070000
END:DAYLIGHT
BEGIN:STANDARD
TZOFFSETFROM:-0400
TZOFFSETTO:-0500
TZNAME:EST
DTSTART:20221106T060000
END:STANDARD
BEGIN:DAYLIGHT
TZOFFSETFROM:-0500
TZOFFSETTO:-0400
TZNAME:EDT
DTSTART:20230312T070000
END:DAYLIGHT
BEGIN:STANDARD
TZOFFSETFROM:-0400
TZOFFSETTO:-0500
TZNAME:EST
DTSTART:20231105T060000
END:STANDARD
BEGIN:DAYLIGHT
TZOFFSETFROM:-0500
TZOFFSETTO:-0400
TZNAME:EDT
DTSTART:20240310T070000
END:DAYLIGHT
BEGIN:STANDARD
TZOFFSETFROM:-0400
TZOFFSETTO:-0500
TZNAME:EST
DTSTART:20241103T060000
END:STANDARD
END:VTIMEZONE
BEGIN:VEVENT
DTSTART;TZID=America/New_York:20230808T120000
DTEND;TZID=America/New_York:20230808T130000
DTSTAMP:20260424T082258
CREATED:20230419T192757Z
LAST-MODIFIED:20230419T193525Z
UID:10000134-1691496000-1691499600@www.ihopeinc.org
SUMMARY:All Recovery Meetings
DESCRIPTION:Zoom Meeting ID: 872 0834 6352 \nZoom Meeting Password: Recovery
URL:https://www.ihopeinc.org/event/all-recovery-meetings/2023-08-08/
LOCATION:iHOPE INC\, 603 C Russell Parkway\, Warner Robins\, GA\, 31088\, United States
END:VEVENT
BEGIN:VEVENT
DTSTART;TZID=America/New_York:20230810T120000
DTEND;TZID=America/New_York:20230810T130000
DTSTAMP:20260424T082258
CREATED:20230419T192757Z
LAST-MODIFIED:20230419T193525Z
UID:10000136-1691668800-1691672400@www.ihopeinc.org
SUMMARY:All Recovery Meetings
DESCRIPTION:Zoom Meeting ID: 872 0834 6352 \nZoom Meeting Password: Recovery
URL:https://www.ihopeinc.org/event/all-recovery-meetings/2023-08-10/
LOCATION:iHOPE INC\, 603 C Russell Parkway\, Warner Robins\, GA\, 31088\, United States
END:VEVENT
BEGIN:VEVENT
DTSTART;TZID=America/New_York:20230811T120000
DTEND;TZID=America/New_York:20230811T130000
DTSTAMP:20260424T082258
CREATED:20230419T192757Z
LAST-MODIFIED:20230419T193525Z
UID:10000137-1691755200-1691758800@www.ihopeinc.org
SUMMARY:All Recovery Meetings
DESCRIPTION:Zoom Meeting ID: 872 0834 6352 \nZoom Meeting Password: Recovery
URL:https://www.ihopeinc.org/event/all-recovery-meetings/2023-08-11/
LOCATION:iHOPE INC\, 603 C Russell Parkway\, Warner Robins\, GA\, 31088\, United States
END:VEVENT
BEGIN:VEVENT
DTSTART;TZID=America/New_York:20230815T120000
DTEND;TZID=America/New_York:20230815T130000
DTSTAMP:20260424T082258
CREATED:20230419T192757Z
LAST-MODIFIED:20230419T193525Z
UID:10000138-1692100800-1692104400@www.ihopeinc.org
SUMMARY:All Recovery Meetings
DESCRIPTION:Zoom Meeting ID: 872 0834 6352 \nZoom Meeting Password: Recovery
URL:https://www.ihopeinc.org/event/all-recovery-meetings/2023-08-15/
LOCATION:iHOPE INC\, 603 C Russell Parkway\, Warner Robins\, GA\, 31088\, United States
END:VEVENT
BEGIN:VEVENT
DTSTART;TZID=America/New_York:20230817T120000
DTEND;TZID=America/New_York:20230817T130000
DTSTAMP:20260424T082258
CREATED:20230419T192757Z
LAST-MODIFIED:20230419T193525Z
UID:10000140-1692273600-1692277200@www.ihopeinc.org
SUMMARY:All Recovery Meetings
DESCRIPTION:Zoom Meeting ID: 872 0834 6352 \nZoom Meeting Password: Recovery
URL:https://www.ihopeinc.org/event/all-recovery-meetings/2023-08-17/
LOCATION:iHOPE INC\, 603 C Russell Parkway\, Warner Robins\, GA\, 31088\, United States
END:VEVENT
BEGIN:VEVENT
DTSTART;TZID=America/New_York:20230818T120000
DTEND;TZID=America/New_York:20230818T130000
DTSTAMP:20260424T082258
CREATED:20230419T192757Z
LAST-MODIFIED:20230419T193525Z
UID:10000141-1692360000-1692363600@www.ihopeinc.org
SUMMARY:All Recovery Meetings
DESCRIPTION:Zoom Meeting ID: 872 0834 6352 \nZoom Meeting Password: Recovery
URL:https://www.ihopeinc.org/event/all-recovery-meetings/2023-08-18/
LOCATION:iHOPE INC\, 603 C Russell Parkway\, Warner Robins\, GA\, 31088\, United States
END:VEVENT
BEGIN:VEVENT
DTSTART;TZID=America/New_York:20230822T120000
DTEND;TZID=America/New_York:20230822T130000
DTSTAMP:20260424T082258
CREATED:20230419T192757Z
LAST-MODIFIED:20230419T193525Z
UID:10000142-1692705600-1692709200@www.ihopeinc.org
SUMMARY:All Recovery Meetings
DESCRIPTION:Zoom Meeting ID: 872 0834 6352 \nZoom Meeting Password: Recovery
URL:https://www.ihopeinc.org/event/all-recovery-meetings/2023-08-22/
LOCATION:iHOPE INC\, 603 C Russell Parkway\, Warner Robins\, GA\, 31088\, United States
END:VEVENT
BEGIN:VEVENT
DTSTART;TZID=America/New_York:20230823T120000
DTEND;TZID=America/New_York:20230823T120000
DTSTAMP:20260424T082258
CREATED:20230822T153842Z
LAST-MODIFIED:20230822T155022Z
UID:10000490-1692792000-1692792000@www.ihopeinc.org
SUMMARY:All Recovery Parents Meetings
DESCRIPTION:
URL:https://www.ihopeinc.org/event/all-recovery-parents-meetings/2023-08-23/
LOCATION:iHOPE INC\, 603 C Russell Parkway\, Warner Robins\, GA\, 31088\, United States
ORGANIZER;CN="iHope":MAILTO:info@ihopeinc.com
END:VEVENT
BEGIN:VEVENT
DTSTART;TZID=America/New_York:20230824T120000
DTEND;TZID=America/New_York:20230824T130000
DTSTAMP:20260424T082258
CREATED:20230419T192757Z
LAST-MODIFIED:20230419T193525Z
UID:10000144-1692878400-1692882000@www.ihopeinc.org
SUMMARY:All Recovery Meetings
DESCRIPTION:Zoom Meeting ID: 872 0834 6352 \nZoom Meeting Password: Recovery
URL:https://www.ihopeinc.org/event/all-recovery-meetings/2023-08-24/
LOCATION:iHOPE INC\, 603 C Russell Parkway\, Warner Robins\, GA\, 31088\, United States
END:VEVENT
BEGIN:VEVENT
DTSTART;TZID=America/New_York:20230825T120000
DTEND;TZID=America/New_York:20230825T130000
DTSTAMP:20260424T082258
CREATED:20230419T192757Z
LAST-MODIFIED:20230419T193525Z
UID:10000145-1692964800-1692968400@www.ihopeinc.org
SUMMARY:All Recovery Meetings
DESCRIPTION:Zoom Meeting ID: 872 0834 6352 \nZoom Meeting Password: Recovery
URL:https://www.ihopeinc.org/event/all-recovery-meetings/2023-08-25/
LOCATION:iHOPE INC\, 603 C Russell Parkway\, Warner Robins\, GA\, 31088\, United States
END:VEVENT
BEGIN:VEVENT
DTSTART;TZID=America/New_York:20230828T183000
DTEND;TZID=America/New_York:20230828T203000
DTSTAMP:20260424T082258
CREATED:20230822T160235Z
LAST-MODIFIED:20230822T160235Z
UID:10001135-1693247400-1693254600@www.ihopeinc.org
SUMMARY:Celebrate Recovery
DESCRIPTION:
URL:https://www.ihopeinc.org/event/celebrate-recovery/2023-08-28/
LOCATION:5555 Bethdesa Avenue\, Macon\, GA\, 31206\, 5555 Bethesda Ave\, Macon\, 31206\, Georgia
ORGANIZER;CN="iHope":MAILTO:info@ihopeinc.com
END:VEVENT
BEGIN:VEVENT
DTSTART;TZID=America/New_York:20230829T120000
DTEND;TZID=America/New_York:20230829T130000
DTSTAMP:20260424T082258
CREATED:20230419T192757Z
LAST-MODIFIED:20230419T193525Z
UID:10000146-1693310400-1693314000@www.ihopeinc.org
SUMMARY:All Recovery Meetings
DESCRIPTION:Zoom Meeting ID: 872 0834 6352 \nZoom Meeting Password: Recovery
URL:https://www.ihopeinc.org/event/all-recovery-meetings/2023-08-29/
LOCATION:iHOPE INC\, 603 C Russell Parkway\, Warner Robins\, GA\, 31088\, United States
END:VEVENT
BEGIN:VEVENT
DTSTART;TZID=America/New_York:20230830T120000
DTEND;TZID=America/New_York:20230830T120000
DTSTAMP:20260424T082258
CREATED:20230822T153842Z
LAST-MODIFIED:20230822T155022Z
UID:10000769-1693396800-1693396800@www.ihopeinc.org
SUMMARY:All Recovery Parents Meetings
DESCRIPTION:
URL:https://www.ihopeinc.org/event/all-recovery-parents-meetings/2023-08-30/
LOCATION:iHOPE INC\, 603 C Russell Parkway\, Warner Robins\, GA\, 31088\, United States
ORGANIZER;CN="iHope":MAILTO:info@ihopeinc.com
END:VEVENT
BEGIN:VEVENT
DTSTART;TZID=America/New_York:20230831T120000
DTEND;TZID=America/New_York:20230831T130000
DTSTAMP:20260424T082258
CREATED:20230419T192757Z
LAST-MODIFIED:20230419T193525Z
UID:10000148-1693483200-1693486800@www.ihopeinc.org
SUMMARY:All Recovery Meetings
DESCRIPTION:Zoom Meeting ID: 872 0834 6352 \nZoom Meeting Password: Recovery
URL:https://www.ihopeinc.org/event/all-recovery-meetings/2023-08-31/
LOCATION:iHOPE INC\, 603 C Russell Parkway\, Warner Robins\, GA\, 31088\, United States
END:VEVENT
BEGIN:VEVENT
DTSTART;TZID=America/New_York:20230901T120000
DTEND;TZID=America/New_York:20230901T130000
DTSTAMP:20260424T082258
CREATED:20230419T192757Z
LAST-MODIFIED:20230419T193525Z
UID:10000149-1693569600-1693573200@www.ihopeinc.org
SUMMARY:All Recovery Meetings
DESCRIPTION:Zoom Meeting ID: 872 0834 6352 \nZoom Meeting Password: Recovery
URL:https://www.ihopeinc.org/event/all-recovery-meetings/2023-09-01/
LOCATION:iHOPE INC\, 603 C Russell Parkway\, Warner Robins\, GA\, 31088\, United States
END:VEVENT
BEGIN:VEVENT
DTSTART;TZID=America/New_York:20230904T183000
DTEND;TZID=America/New_York:20230904T203000
DTSTAMP:20260424T082258
CREATED:20230822T160235Z
LAST-MODIFIED:20230822T160235Z
UID:10001136-1693852200-1693859400@www.ihopeinc.org
SUMMARY:Celebrate Recovery
DESCRIPTION:
URL:https://www.ihopeinc.org/event/celebrate-recovery/2023-09-04/
LOCATION:5555 Bethdesa Avenue\, Macon\, GA\, 31206\, 5555 Bethesda Ave\, Macon\, 31206\, Georgia
ORGANIZER;CN="iHope":MAILTO:info@ihopeinc.com
END:VEVENT
BEGIN:VEVENT
DTSTART;TZID=America/New_York:20230905T120000
DTEND;TZID=America/New_York:20230905T130000
DTSTAMP:20260424T082258
CREATED:20230419T192757Z
LAST-MODIFIED:20230419T193525Z
UID:10000150-1693915200-1693918800@www.ihopeinc.org
SUMMARY:All Recovery Meetings
DESCRIPTION:Zoom Meeting ID: 872 0834 6352 \nZoom Meeting Password: Recovery
URL:https://www.ihopeinc.org/event/all-recovery-meetings/2023-09-05/
LOCATION:iHOPE INC\, 603 C Russell Parkway\, Warner Robins\, GA\, 31088\, United States
END:VEVENT
BEGIN:VEVENT
DTSTART;TZID=America/New_York:20230906T120000
DTEND;TZID=America/New_York:20230906T120000
DTSTAMP:20260424T082258
CREATED:20230822T153842Z
LAST-MODIFIED:20230822T155022Z
UID:10000770-1694001600-1694001600@www.ihopeinc.org
SUMMARY:All Recovery Parents Meetings
DESCRIPTION:
URL:https://www.ihopeinc.org/event/all-recovery-parents-meetings/2023-09-06/
LOCATION:iHOPE INC\, 603 C Russell Parkway\, Warner Robins\, GA\, 31088\, United States
ORGANIZER;CN="iHope":MAILTO:info@ihopeinc.com
END:VEVENT
BEGIN:VEVENT
DTSTART;TZID=America/New_York:20230907T120000
DTEND;TZID=America/New_York:20230907T130000
DTSTAMP:20260424T082258
CREATED:20230419T192757Z
LAST-MODIFIED:20230419T193525Z
UID:10000152-1694088000-1694091600@www.ihopeinc.org
SUMMARY:All Recovery Meetings
DESCRIPTION:Zoom Meeting ID: 872 0834 6352 \nZoom Meeting Password: Recovery
URL:https://www.ihopeinc.org/event/all-recovery-meetings/2023-09-07/
LOCATION:iHOPE INC\, 603 C Russell Parkway\, Warner Robins\, GA\, 31088\, United States
END:VEVENT
BEGIN:VEVENT
DTSTART;TZID=America/New_York:20230908T120000
DTEND;TZID=America/New_York:20230908T130000
DTSTAMP:20260424T082258
CREATED:20230419T192757Z
LAST-MODIFIED:20230419T193525Z
UID:10000153-1694174400-1694178000@www.ihopeinc.org
SUMMARY:All Recovery Meetings
DESCRIPTION:Zoom Meeting ID: 872 0834 6352 \nZoom Meeting Password: Recovery
URL:https://www.ihopeinc.org/event/all-recovery-meetings/2023-09-08/
LOCATION:iHOPE INC\, 603 C Russell Parkway\, Warner Robins\, GA\, 31088\, United States
END:VEVENT
BEGIN:VEVENT
DTSTART;TZID=America/New_York:20230911T183000
DTEND;TZID=America/New_York:20230911T203000
DTSTAMP:20260424T082258
CREATED:20230822T160235Z
LAST-MODIFIED:20230822T160235Z
UID:10001137-1694457000-1694464200@www.ihopeinc.org
SUMMARY:Celebrate Recovery
DESCRIPTION:
URL:https://www.ihopeinc.org/event/celebrate-recovery/2023-09-11/
LOCATION:5555 Bethdesa Avenue\, Macon\, GA\, 31206\, 5555 Bethesda Ave\, Macon\, 31206\, Georgia
ORGANIZER;CN="iHope":MAILTO:info@ihopeinc.com
END:VEVENT
BEGIN:VEVENT
DTSTART;TZID=America/New_York:20230912T120000
DTEND;TZID=America/New_York:20230912T130000
DTSTAMP:20260424T082258
CREATED:20230419T192757Z
LAST-MODIFIED:20230419T193525Z
UID:10000154-1694520000-1694523600@www.ihopeinc.org
SUMMARY:All Recovery Meetings
DESCRIPTION:Zoom Meeting ID: 872 0834 6352 \nZoom Meeting Password: Recovery
URL:https://www.ihopeinc.org/event/all-recovery-meetings/2023-09-12/
LOCATION:iHOPE INC\, 603 C Russell Parkway\, Warner Robins\, GA\, 31088\, United States
END:VEVENT
BEGIN:VEVENT
DTSTART;TZID=America/New_York:20230913T120000
DTEND;TZID=America/New_York:20230913T120000
DTSTAMP:20260424T082258
CREATED:20230822T153842Z
LAST-MODIFIED:20230822T155022Z
UID:10000771-1694606400-1694606400@www.ihopeinc.org
SUMMARY:All Recovery Parents Meetings
DESCRIPTION:
URL:https://www.ihopeinc.org/event/all-recovery-parents-meetings/2023-09-13/
LOCATION:iHOPE INC\, 603 C Russell Parkway\, Warner Robins\, GA\, 31088\, United States
ORGANIZER;CN="iHope":MAILTO:info@ihopeinc.com
END:VEVENT
BEGIN:VEVENT
DTSTART;TZID=America/New_York:20230914T120000
DTEND;TZID=America/New_York:20230914T130000
DTSTAMP:20260424T082258
CREATED:20230419T192757Z
LAST-MODIFIED:20230419T193525Z
UID:10000156-1694692800-1694696400@www.ihopeinc.org
SUMMARY:All Recovery Meetings
DESCRIPTION:Zoom Meeting ID: 872 0834 6352 \nZoom Meeting Password: Recovery
URL:https://www.ihopeinc.org/event/all-recovery-meetings/2023-09-14/
LOCATION:iHOPE INC\, 603 C Russell Parkway\, Warner Robins\, GA\, 31088\, United States
END:VEVENT
BEGIN:VEVENT
DTSTART;TZID=America/New_York:20230915T120000
DTEND;TZID=America/New_York:20230915T130000
DTSTAMP:20260424T082258
CREATED:20230419T192757Z
LAST-MODIFIED:20230419T193525Z
UID:10000157-1694779200-1694782800@www.ihopeinc.org
SUMMARY:All Recovery Meetings
DESCRIPTION:Zoom Meeting ID: 872 0834 6352 \nZoom Meeting Password: Recovery
URL:https://www.ihopeinc.org/event/all-recovery-meetings/2023-09-15/
LOCATION:iHOPE INC\, 603 C Russell Parkway\, Warner Robins\, GA\, 31088\, United States
END:VEVENT
BEGIN:VEVENT
DTSTART;TZID=America/New_York:20230918T183000
DTEND;TZID=America/New_York:20230918T203000
DTSTAMP:20260424T082258
CREATED:20230822T160235Z
LAST-MODIFIED:20230822T160235Z
UID:10001138-1695061800-1695069000@www.ihopeinc.org
SUMMARY:Celebrate Recovery
DESCRIPTION:
URL:https://www.ihopeinc.org/event/celebrate-recovery/2023-09-18/
LOCATION:5555 Bethdesa Avenue\, Macon\, GA\, 31206\, 5555 Bethesda Ave\, Macon\, 31206\, Georgia
ORGANIZER;CN="iHope":MAILTO:info@ihopeinc.com
END:VEVENT
BEGIN:VEVENT
DTSTART;TZID=America/New_York:20230919T120000
DTEND;TZID=America/New_York:20230919T130000
DTSTAMP:20260424T082258
CREATED:20230419T192757Z
LAST-MODIFIED:20230419T193525Z
UID:10000158-1695124800-1695128400@www.ihopeinc.org
SUMMARY:All Recovery Meetings
DESCRIPTION:Zoom Meeting ID: 872 0834 6352 \nZoom Meeting Password: Recovery
URL:https://www.ihopeinc.org/event/all-recovery-meetings/2023-09-19/
LOCATION:iHOPE INC\, 603 C Russell Parkway\, Warner Robins\, GA\, 31088\, United States
END:VEVENT
BEGIN:VEVENT
DTSTART;TZID=America/New_York:20230920T120000
DTEND;TZID=America/New_York:20230920T120000
DTSTAMP:20260424T082258
CREATED:20230822T153842Z
LAST-MODIFIED:20230822T155022Z
UID:10000772-1695211200-1695211200@www.ihopeinc.org
SUMMARY:All Recovery Parents Meetings
DESCRIPTION:
URL:https://www.ihopeinc.org/event/all-recovery-parents-meetings/2023-09-20/
LOCATION:iHOPE INC\, 603 C Russell Parkway\, Warner Robins\, GA\, 31088\, United States
ORGANIZER;CN="iHope":MAILTO:info@ihopeinc.com
END:VEVENT
BEGIN:VEVENT
DTSTART;TZID=America/New_York:20230921T120000
DTEND;TZID=America/New_York:20230921T130000
DTSTAMP:20260424T082258
CREATED:20230419T192757Z
LAST-MODIFIED:20230419T193525Z
UID:10000160-1695297600-1695301200@www.ihopeinc.org
SUMMARY:All Recovery Meetings
DESCRIPTION:Zoom Meeting ID: 872 0834 6352 \nZoom Meeting Password: Recovery
URL:https://www.ihopeinc.org/event/all-recovery-meetings/2023-09-21/
LOCATION:iHOPE INC\, 603 C Russell Parkway\, Warner Robins\, GA\, 31088\, United States
END:VEVENT
BEGIN:VEVENT
DTSTART;TZID=America/New_York:20230922T120000
DTEND;TZID=America/New_York:20230922T130000
DTSTAMP:20260424T082258
CREATED:20230419T192757Z
LAST-MODIFIED:20230419T193525Z
UID:10000161-1695384000-1695387600@www.ihopeinc.org
SUMMARY:All Recovery Meetings
DESCRIPTION:Zoom Meeting ID: 872 0834 6352 \nZoom Meeting Password: Recovery
URL:https://www.ihopeinc.org/event/all-recovery-meetings/2023-09-22/
LOCATION:iHOPE INC\, 603 C Russell Parkway\, Warner Robins\, GA\, 31088\, United States
END:VEVENT
END:VCALENDAR